BEGIN:VCALENDAR
VERSION:2.0
PRODID:-//David Lichman - ECPv6.15.11//NONSGML v1.0//EN
CALSCALE:GREGORIAN
METHOD:PUBLISH
X-ORIGINAL-URL:https://www.davidlichman.com
X-WR-CALDESC:Events for David Lichman
REFRESH-INTERVAL;VALUE=DURATION:PT1H
X-Robots-Tag:noindex
X-PUBLISHED-TTL:PT1H
BEGIN:VTIMEZONE
TZID:Europe/Paris
BEGIN:DAYLIGHT
TZOFFSETFROM:+0100
TZOFFSETTO:+0200
TZNAME:CEST
DTSTART:20250330T010000
END:DAYLIGHT
BEGIN:STANDARD
TZOFFSETFROM:+0200
TZOFFSETTO:+0100
TZNAME:CET
DTSTART:20251026T010000
END:STANDARD
BEGIN:DAYLIGHT
TZOFFSETFROM:+0100
TZOFFSETTO:+0200
TZNAME:CEST
DTSTART:20260329T010000
END:DAYLIGHT
BEGIN:STANDARD
TZOFFSETFROM:+0200
TZOFFSETTO:+0100
TZNAME:CET
DTSTART:20261025T010000
END:STANDARD
BEGIN:DAYLIGHT
TZOFFSETFROM:+0100
TZOFFSETTO:+0200
TZNAME:CEST
DTSTART:20270328T010000
END:DAYLIGHT
BEGIN:STANDARD
TZOFFSETFROM:+0200
TZOFFSETTO:+0100
TZNAME:CET
DTSTART:20271031T010000
END:STANDARD
END:VTIMEZONE
BEGIN:VEVENT
DTSTART;VALUE=DATE:20260627
DTEND;VALUE=DATE:20260629
DTSTAMP:20260423T164632
CREATED:20260324T011220Z
LAST-MODIFIED:20260324T011220Z
UID:1420-1782518400-1782691199@www.davidlichman.com
SUMMARY:Heart of Liberty Avignon\, France
DESCRIPTION:Thème\n« Le cœur de la liberté »\nL’objectif principal est de créer un lien profond entre les humains et leurs partenaires équins. Un lien qui résiste aux distractions\, où qu’ils aillent ensemble. Pour cela\, nous prenons toujours en compte le point de vue du cheval en premier lieu\, en proposant des outils pour renforcer la confiance et la détente\, en mettant l’accent sur la combinaison du renforcement positif et du horsemanship naturelle. Nous donnons la parole au cheval dans ce processus\, et en écoutant cette voix\, nous gagnons en confiance.\nLes ateliers de David s’appuient sur une combinaison de renforcement positif et négatif pour favoriser des relations solides\, des partenariats constructifs et des réactions enthousiastes. Ils visent également à développer la relaxation et la confiance en soi\, grâce à l’utilisation de stratégies d’adaptation et de signaux d’arrêt. Ainsi\, le cheval acquiert une plus grande autonomie et le sentiment de maîtriser son comportement.\nÀ pied\, David passe rapidement à ce que les chevaux soient en liberté.À cheval\, l’objectif est le rythme et la détente\, avec un minimum de rênes\, voire aucune. \nS’amuser est une priorité absolue ; la musique et les jeux créent une atmosphère très propice à cela.\n « La musique vous fait sortir de votre espace de réflexion et vous plonge dans votre espace émotionnel – exactement là où les chevaux aiment que vous soyez… » \nRejoignez-nous pour un atelier en petits groupes\, pour un suivi personnalisé. Les chevaux apprécient particulièrement ce format de séances courtes et fréquentes\, plutôt que d’être sollicités toute la journée.\n Vous ne parlez pas anglais ? Aucun souci : une traductrice sera présente pour faciliter les échanges.\n Tarifs de l’événement Auditeur�• Week-end : 120 €�• Une journée : 60 € Cavalier�• 400 €� Hébergement et location de la structure non inclus (en supplément)\n\nLieu Vaucluse 84 Écurie de la grange blanche 2019 Rte d’Avignon84210 Pernes-les-Fontaines\nInformations et Inscriptions Amandine Aurran06.19.82.41.07amandineaurran@gmail.com
URL:https://www.davidlichman.com/event/heart-of-liberty-avignon-france/
LOCATION:Écurie de la grange blanche\, 2019 Rte d’Avignon\, Pernes-les-Fontaines\, 84210\, France
END:VEVENT
BEGIN:VEVENT
DTSTART;VALUE=DATE:20260711
DTEND;VALUE=DATE:20260714
DTSTAMP:20260423T164632
CREATED:20260324T012041Z
LAST-MODIFIED:20260324T012041Z
UID:1423-1783728000-1783987199@www.davidlichman.com
SUMMARY:Heart of Liberty Workshop\, Normandy (beach access) France
DESCRIPTION:Du 11 au 13 juillet\, au Centre Équestre du Mont de Louve (Bazinghen\, France)\, venez participer à un stage exceptionnel avec David Lichman\, instructeur Parelli 5 étoiles.\nPendant 2 jours\, vous explorerez une approche claire et respectueuse pour développer une connexion profonde et fiable avec votre cheval en combinant natural horsemanship et renforcement positif.\nSi la météo le permet\, nous proposerons également aux participants de se retrouver sur la plage\, avec ou sans cheval\, afin de profiter ensemble du cadre exceptionnel du site des Deux Caps. Ce moment sera l’occasion de partager un temps convivial dans un environnement naturel unique.\n En BONUS\, une troisième journée vous sera proposée. Placée sous le signe de l’amusement et du partage. David vous proposera différents moments ludiques : jeux avec les chevaux\, jeux en musique\, petits challenges et temps de relaxation.\nLe programme de ce stage visent à permettre à chaque binôme humain-équin d’évoluer à son propre rythme\, afin de construire une relation solide menant progressivement au travail en totale liberté.\nLe tout dans une ambiance conviviale et dans un cadre incroyable \nInscriptions ici  >> https://forms.gle/npqz8drtXf8268Jw8\nEmail Admin@DavidLichman.com
URL:https://www.davidlichman.com/event/heart-of-liberty-workshop-normandy-beach-access-france/
LOCATION:Centre Équestre du Mont de Louve\, Bazinghen\, France
ORGANIZER;CN="Maeva Debellemaniere":MAILTO:maevadebellemaniere@gmail.com
END:VEVENT
END:VCALENDAR