BEGIN:VCALENDAR
VERSION:2.0
PRODID:-//David Lichman - ECPv6.15.11//NONSGML v1.0//EN
CALSCALE:GREGORIAN
METHOD:PUBLISH
X-WR-CALNAME:David Lichman
X-ORIGINAL-URL:https://www.davidlichman.com
X-WR-CALDESC:Events for David Lichman
REFRESH-INTERVAL;VALUE=DURATION:PT1H
X-Robots-Tag:noindex
X-PUBLISHED-TTL:PT1H
BEGIN:VTIMEZONE
TZID:Europe/Paris
BEGIN:DAYLIGHT
TZOFFSETFROM:+0100
TZOFFSETTO:+0200
TZNAME:CEST
DTSTART:20250330T010000
END:DAYLIGHT
BEGIN:STANDARD
TZOFFSETFROM:+0200
TZOFFSETTO:+0100
TZNAME:CET
DTSTART:20251026T010000
END:STANDARD
BEGIN:DAYLIGHT
TZOFFSETFROM:+0100
TZOFFSETTO:+0200
TZNAME:CEST
DTSTART:20260329T010000
END:DAYLIGHT
BEGIN:STANDARD
TZOFFSETFROM:+0200
TZOFFSETTO:+0100
TZNAME:CET
DTSTART:20261025T010000
END:STANDARD
BEGIN:DAYLIGHT
TZOFFSETFROM:+0100
TZOFFSETTO:+0200
TZNAME:CEST
DTSTART:20270328T010000
END:DAYLIGHT
BEGIN:STANDARD
TZOFFSETFROM:+0200
TZOFFSETTO:+0100
TZNAME:CET
DTSTART:20271031T010000
END:STANDARD
END:VTIMEZONE
BEGIN:VTIMEZONE
TZID:America/Los_Angeles
BEGIN:DAYLIGHT
TZOFFSETFROM:-0800
TZOFFSETTO:-0700
TZNAME:PDT
DTSTART:20240310T100000
END:DAYLIGHT
BEGIN:STANDARD
TZOFFSETFROM:-0700
TZOFFSETTO:-0800
TZNAME:PST
DTSTART:20241103T090000
END:STANDARD
BEGIN:DAYLIGHT
TZOFFSETFROM:-0800
TZOFFSETTO:-0700
TZNAME:PDT
DTSTART:20250309T100000
END:DAYLIGHT
BEGIN:STANDARD
TZOFFSETFROM:-0700
TZOFFSETTO:-0800
TZNAME:PST
DTSTART:20251102T090000
END:STANDARD
BEGIN:DAYLIGHT
TZOFFSETFROM:-0800
TZOFFSETTO:-0700
TZNAME:PDT
DTSTART:20260308T100000
END:DAYLIGHT
BEGIN:STANDARD
TZOFFSETFROM:-0700
TZOFFSETTO:-0800
TZNAME:PST
DTSTART:20261101T090000
END:STANDARD
END:VTIMEZONE
BEGIN:VEVENT
DTSTART;VALUE=DATE:20260627
DTEND;VALUE=DATE:20260629
DTSTAMP:20260423T152846
CREATED:20260324T011220Z
LAST-MODIFIED:20260324T011220Z
UID:1420-1782518400-1782691199@www.davidlichman.com
SUMMARY:Heart of Liberty Avignon\, France
DESCRIPTION:Thème\n« Le cœur de la liberté »\nL’objectif principal est de créer un lien profond entre les humains et leurs partenaires équins. Un lien qui résiste aux distractions\, où qu’ils aillent ensemble. Pour cela\, nous prenons toujours en compte le point de vue du cheval en premier lieu\, en proposant des outils pour renforcer la confiance et la détente\, en mettant l’accent sur la combinaison du renforcement positif et du horsemanship naturelle. Nous donnons la parole au cheval dans ce processus\, et en écoutant cette voix\, nous gagnons en confiance.\nLes ateliers de David s’appuient sur une combinaison de renforcement positif et négatif pour favoriser des relations solides\, des partenariats constructifs et des réactions enthousiastes. Ils visent également à développer la relaxation et la confiance en soi\, grâce à l’utilisation de stratégies d’adaptation et de signaux d’arrêt. Ainsi\, le cheval acquiert une plus grande autonomie et le sentiment de maîtriser son comportement.\nÀ pied\, David passe rapidement à ce que les chevaux soient en liberté.À cheval\, l’objectif est le rythme et la détente\, avec un minimum de rênes\, voire aucune. \nS’amuser est une priorité absolue ; la musique et les jeux créent une atmosphère très propice à cela.\n « La musique vous fait sortir de votre espace de réflexion et vous plonge dans votre espace émotionnel – exactement là où les chevaux aiment que vous soyez… » \nRejoignez-nous pour un atelier en petits groupes\, pour un suivi personnalisé. Les chevaux apprécient particulièrement ce format de séances courtes et fréquentes\, plutôt que d’être sollicités toute la journée.\n Vous ne parlez pas anglais ? Aucun souci : une traductrice sera présente pour faciliter les échanges.\n Tarifs de l’événement Auditeur�• Week-end : 120 €�• Une journée : 60 € Cavalier�• 400 €� Hébergement et location de la structure non inclus (en supplément)\n\nLieu Vaucluse 84 Écurie de la grange blanche 2019 Rte d’Avignon84210 Pernes-les-Fontaines\nInformations et Inscriptions Amandine Aurran06.19.82.41.07amandineaurran@gmail.com
URL:https://www.davidlichman.com/event/heart-of-liberty-avignon-france/
LOCATION:Écurie de la grange blanche\, 2019 Rte d’Avignon\, Pernes-les-Fontaines\, 84210\, France
END:VEVENT
BEGIN:VEVENT
DTSTART;VALUE=DATE:20251006
DTEND;VALUE=DATE:20251008
DTSTAMP:20260423T152846
CREATED:20250501T020208Z
LAST-MODIFIED:20250501T020323Z
UID:1391-1759708800-1759881599@www.davidlichman.com
SUMMARY:Liberty Workshop - Breda\, Netherlands
DESCRIPTION:Come join us for a fun 2 days of of Liberty Horse education by David Lichman. \nEach coaching day is divided into four sections\, with participants alternating coaching and observing for two sessions each day.  This format maintains the goal of individualized coaching in shorter sessions\, to maximize learning and avoid mental fatigue. \nCost listed is per day of workshop \nGallery Students (Spectators) €50/day \nAs usual\, David’s clinic will have lots of fun and music!
URL:https://www.davidlichman.com/event/liberty-workshop-breda-netherlands/
LOCATION:Breda NL\, Breda\, Netherlands
END:VEVENT
BEGIN:VEVENT
DTSTART;VALUE=DATE:20250916
DTEND;VALUE=DATE:20250920
DTSTAMP:20260423T152846
CREATED:20250501T020052Z
LAST-MODIFIED:20250501T230749Z
UID:1394-1757980800-1758326399@www.davidlichman.com
SUMMARY:Lessons - Vienna\, Austria
DESCRIPTION:Come join us for Liberty Horse education by David Lichman. \nDavid will be conducting private and group lessons. \nCost listed is per hour \nGallery Students (Spectators) €50/day \nAs usual\, David’s lessons will have lots of fun and music!
URL:https://www.davidlichman.com/event/lessons-vienna-austria/
LOCATION:Lichtblickhof Wien\, Reizenpfenninggasse 1A/10/9\, Wien\, 1140\, Austria
ORGANIZER;CN="Roswitha Zink":MAILTO:roswitha.zink@lichtblickhof.at
END:VEVENT
BEGIN:VEVENT
DTSTART;VALUE=DATE:20250909
DTEND;VALUE=DATE:20250912
DTSTAMP:20260423T152846
CREATED:20250501T014345Z
LAST-MODIFIED:20250501T014345Z
UID:1382-1757376000-1757635199@www.davidlichman.com
SUMMARY:Liberty & Beach Workshop - Baie de Somme\, France
DESCRIPTION:Come join us for a fun 3 days of of Liberty Horse education by David Lichman – in the arena\, and on the beach (as weather and tide permit). \nEach coaching day is divided into four sections\, with participants alternating coaching and observing for two sessions each day.  This format maintains the goal of individualized coaching in shorter sessions\, to maximize learning and avoid mental fatigue. \nCost listed is per day of workshop \nGallery Students (Spectators) €50/day \nAs usual\, David’s clinic will have lots of fun and music!
URL:https://www.davidlichman.com/event/liberty-beach-workshop-baie-de-somme-france/
LOCATION:Aventure Equestre\, Ponthoile\, 80860\, France
ORGANIZER;CN="Barbara Beaufils":MAILTO:barbara@aventure-equestre.fr
END:VEVENT
BEGIN:VEVENT
DTSTART;VALUE=DATE:20250906
DTEND;VALUE=DATE:20250908
DTSTAMP:20260423T152846
CREATED:20250501T012830Z
LAST-MODIFIED:20250501T012830Z
UID:1375-1757116800-1757289599@www.davidlichman.com
SUMMARY:Liberty Workshop - Lyon France
DESCRIPTION:Come join us for a fun weekend of Liberty Horse education by David Lichman. \nEach coaching day is divided into four sections\, with participants alternating coaching and observing for two sessions each day.  This format maintains the goal of individualized coaching in shorter sessions\, to maximize learning and avoid mental fatigue. \nCost listed is per day of workshop \nGallery Students (Spectators) €50/day \nAs usual\, David’s clinic will have lots of fun and music!
URL:https://www.davidlichman.com/event/liberty-workshop-lyon-france/
LOCATION:Lyon France\, France
ORGANIZER;CN="Melina Saunier":MAILTO:melinasaunier@hotmail.fr
END:VEVENT
END:VCALENDAR